0.34999999999999637
0.00000000000000000
0.00000000000000000
-0.35000000000002762
325226.72647495999000000
3249468.78531636020000000
