0.34999999999997278
0.00000000000000000
0.00000000000000000
-0.34999999999997239
324306.59308387002000000
3248837.80690495020000000
