0.34999999999998188
0.00000000000000000
0.00000000000000000
-0.34999999999998621
323374.37672112999000000
3248211.77722413980000000
