0.34999999999998732
0.00000000000000000
0.00000000000000000
-0.34999999999998621
322420.76809701999000000
3247606.66015898020000000
