0.34999999999996917
0.00000000000000000
0.00000000000000000
-0.34999999999997239
321558.03946855001000000
3246905.52804121000000000
