0.34999999999998910
0.00000000000000000
0.00000000000000000
-0.34999999999998621
320582.21376324998000000
3246337.53997675980000000
