0.34999999999999049
0.00000000000000000
0.00000000000000000
-0.34999999999998610
319740.48477084999000000
3247301.25683959990000000
