0.34999999999999809
0.00000000000000000
0.00000000000000000
-0.35000000000002779
320667.52765970002000000
3247945.20134996020000000
