0.35000000000000381
0.00000000000000000
0.00000000000000000
-0.35000000000002784
321603.62662815000000000
3248570.30538950020000000
