0.35000000000000381
0.00000000000000000
0.00000000000000000
-0.34999999999999998
322552.01108970999000000
3249164.73220861980000000
