0.34999999999999809
0.00000000000000000
0.00000000000000000
-0.35000000000001391
323437.20675692998000000
3249867.06429592990000000
