0.34999999999999998
0.00000000000000000
0.00000000000000000
-0.35000000000002790
324410.38417411002000000
3250438.66798431010000000
