0.34999999999999998
0.00000000000000000
0.00000000000000000
-0.35000000000002912
318040.35973765998000000
3249480.64297601020000000
