0.34999999999998255
0.00000000000000000
0.00000000000000000
-0.34999999999998554
317757.24124549999000000
3249975.04126037980000000
