0.34999999999998777
0.00000000000000000
0.00000000000000000
-0.34999999999998549
317105.94969951001000000
3250878.35499214010000000
