0.34999999999998310
0.00000000000000000
0.00000000000000000
-0.34999999999998610
312813.00355877000000000
3235979.86321362010000000
