0.34999999999997000
0.00000000000000000
0.00000000000000000
-0.34999999999997217
313257.04893143999000000
3236318.73114972000000000
