0.34999999999997555
0.00000000000000000
0.00000000000000000
-0.34999999999997211
314150.97190104000000000
3236988.50961158010000000
