0.35000000000000187
0.00000000000000000
0.00000000000000000
-0.34999999999999998
315100.48898178001000000
3237601.01509121990000000
