0.34999999999998305
0.00000000000000000
0.00000000000000000
-0.34999999999998604
316049.87712477997000000
3238200.62550577010000000
