0.35000000000000187
0.00000000000000000
0.00000000000000000
-0.34999999999999998
316946.71152585000000000
3238865.22730566000000000
