0.34999999999997544
0.00000000000000000
0.00000000000000000
-0.34999999999997211
317871.90495713998000000
3239515.83975308020000000
