0.34999999999999998
0.00000000000000000
0.00000000000000000
-0.35000000000001397
318826.92736079002000000
3240105.48935351990000000
