0.34999999999999998
0.00000000000000000
0.00000000000000000
-0.35000000000001397
319740.43396276998000000
3240745.92486360020000000
