0.35000000000000187
0.00000000000000000
0.00000000000000000
-0.35000000000002790
320660.05440288997000000
3241394.01022522990000000
