0.34999999999999809
0.00000000000000000
0.00000000000000000
-0.35000000000002790
321596.87983604998000000
3242022.39396747020000000
