0.34999999999999620
0.00000000000000000
0.00000000000000000
-0.34999999999999998
322545.31071693002000000
3242621.01787192980000000
