0.34999999999996984
0.00000000000000000
0.00000000000000000
-0.34999999999997211
323423.22538363002000000
3243312.65280363990000000
