0.34999999999997516
0.00000000000000000
0.00000000000000000
-0.34999999999997200
324376.45805638999000000
3243906.91796458000000000
