0.34999999999999620
0.00000000000000000
0.00000000000000000
-0.35000000000001397
325295.69272594998000000
3244559.68730923020000000
