0.35000000000000187
0.00000000000000000
0.00000000000000000
-0.35000000000002784
326265.71750456002000000
3245111.16731143000000000
