0.34999999999999998
0.00000000000000000
0.00000000000000000
-0.35000000000001397
327146.94732589001000000
3245804.33127762980000000
