0.34999999999999809
0.00000000000000000
0.00000000000000000
-0.34999999999999998
328075.75887886999000000
3246430.77348673020000000
