0.34999999999999820
0.00000000000000000
0.00000000000000000
-0.35000000000001391
325773.05026307999000000
3251075.17055614010000000
