0.34999999999998915
0.00000000000000000
0.00000000000000000
-0.34999999999998610
326168.60907613998000000
3251464.90788485020000000
