0.34999999999999576
0.00000000000000000
0.00000000000000000
-0.35000000000001463
354119.41611282999000000
3267760.14792098990000000
