0.34999999999999787
0.00000000000000000
0.00000000000000000
-0.35000000000002923
354983.45760382997000000
3268043.85719010980000000
