0.34999999999997500
0.00000000000000000
0.00000000000000000
-0.34999999999997100
355795.62446579000000000
3268393.71707925010000000
