0.35000000000000420
0.00000000000000000
0.00000000000000000
-0.35000000000001458
356601.30771894002000000
3268839.05580377020000000
