0.34999999999999787
0.00000000000000000
0.00000000000000000
-0.35000000000001463
357483.77701597998000000
3269103.14148637000000000
