0.34999999999999787
0.00000000000000000
0.00000000000000000
-0.34999999999999998
358310.55108136003000000
3269448.88679844000000000
