0.34999999999996639
0.00000000000000000
0.00000000000000000
-0.34999999999997083
359138.02215784002000000
3269823.08016319010000000
