0.34999999999998943
0.00000000000000000
0.00000000000000000
-0.34999999999998538
359978.72756008001000000
3270201.12930780000000000
