0.34999999999997483
0.00000000000000000
0.00000000000000000
-0.34999999999997095
360863.23617706000000000
3270452.69641420990000000
