0.34999999999997061
0.00000000000000000
0.00000000000000000
-0.34999999999997089
361620.73326765001000000
3270945.60384351990000000
