0.35000000000000214
0.00000000000000000
0.00000000000000000
-0.35000000000001463
362505.53744430997000000
3271204.63731634010000000
