0.34999999999996639
0.00000000000000000
0.00000000000000000
-0.34999999999997089
363332.96646585001000000
3271561.85201227990000000
