0.34999999999999792
0.00000000000000000
0.00000000000000000
-0.35000000000001458
364158.26388664002000000
3271937.63351954990000000
