0.34999999999999576
0.00000000000000000
0.00000000000000000
-0.35000000000002929
365016.28002728999000000
3272263.98122981000000000
