0.35000000000000203
0.00000000000000000
0.00000000000000000
-0.35000000000001436
361619.75789958000000000
3269567.92044092990000000
